BEGIN:VCALENDAR
VERSION:2.0
PRODID:-//Lions Club Dietzenbach - ECPv6.15.20//NONSGML v1.0//EN
CALSCALE:GREGORIAN
METHOD:PUBLISH
X-WR-CALNAME:Lions Club Dietzenbach
X-ORIGINAL-URL:https://www.lions-dietzenbach.de
X-WR-CALDESC:Veranstaltungen für Lions Club Dietzenbach
REFRESH-INTERVAL;VALUE=DURATION:PT1H
X-Robots-Tag:noindex
X-PUBLISHED-TTL:PT1H
BEGIN:VTIMEZONE
TZID:Europe/Berlin
BEGIN:DAYLIGHT
TZOFFSETFROM:+0100
TZOFFSETTO:+0200
TZNAME:CEST
DTSTART:20240331T010000
END:DAYLIGHT
BEGIN:STANDARD
TZOFFSETFROM:+0200
TZOFFSETTO:+0100
TZNAME:CET
DTSTART:20241027T010000
END:STANDARD
BEGIN:DAYLIGHT
TZOFFSETFROM:+0100
TZOFFSETTO:+0200
TZNAME:CEST
DTSTART:20250330T010000
END:DAYLIGHT
BEGIN:STANDARD
TZOFFSETFROM:+0200
TZOFFSETTO:+0100
TZNAME:CET
DTSTART:20251026T010000
END:STANDARD
BEGIN:DAYLIGHT
TZOFFSETFROM:+0100
TZOFFSETTO:+0200
TZNAME:CEST
DTSTART:20260329T010000
END:DAYLIGHT
BEGIN:STANDARD
TZOFFSETFROM:+0200
TZOFFSETTO:+0100
TZNAME:CET
DTSTART:20261025T010000
END:STANDARD
END:VTIMEZONE
BEGIN:VEVENT
DTSTART;TZID=Europe/Berlin:20250108T183000
DTEND;TZID=Europe/Berlin:20250108T210000
DTSTAMP:20260425T170443
CREATED:20240722T121841Z
LAST-MODIFIED:20250108T170710Z
UID:2885-1736361000-1736370000@www.lions-dietzenbach.de
SUMMARY:Clubabend Traditionelles Treffen im Alt Dietzenbach
DESCRIPTION:
URL:https://www.lions-dietzenbach.de/event/clubabend-traditionelles-treffen-im-alt-dietzenbach/
LOCATION:Alt Dietzenbach
END:VEVENT
END:VCALENDAR