BEGIN:VCALENDAR
VERSION:2.0
PRODID:-//Lions Club Dietzenbach - ECPv6.15.20//NONSGML v1.0//EN
CALSCALE:GREGORIAN
METHOD:PUBLISH
X-WR-CALNAME:Lions Club Dietzenbach
X-ORIGINAL-URL:https://www.lions-dietzenbach.de
X-WR-CALDESC:Veranstaltungen für Lions Club Dietzenbach
REFRESH-INTERVAL;VALUE=DURATION:PT1H
X-Robots-Tag:noindex
X-PUBLISHED-TTL:PT1H
BEGIN:VTIMEZONE
TZID:Europe/Berlin
BEGIN:DAYLIGHT
TZOFFSETFROM:+0100
TZOFFSETTO:+0200
TZNAME:CEST
DTSTART:20240331T010000
END:DAYLIGHT
BEGIN:STANDARD
TZOFFSETFROM:+0200
TZOFFSETTO:+0100
TZNAME:CET
DTSTART:20241027T010000
END:STANDARD
BEGIN:DAYLIGHT
TZOFFSETFROM:+0100
TZOFFSETTO:+0200
TZNAME:CEST
DTSTART:20250330T010000
END:DAYLIGHT
BEGIN:STANDARD
TZOFFSETFROM:+0200
TZOFFSETTO:+0100
TZNAME:CET
DTSTART:20251026T010000
END:STANDARD
BEGIN:DAYLIGHT
TZOFFSETFROM:+0100
TZOFFSETTO:+0200
TZNAME:CEST
DTSTART:20260329T010000
END:DAYLIGHT
BEGIN:STANDARD
TZOFFSETFROM:+0200
TZOFFSETTO:+0100
TZNAME:CET
DTSTART:20261025T010000
END:STANDARD
END:VTIMEZONE
BEGIN:VEVENT
DTSTART;TZID=Europe/Berlin:20250207T183000
DTEND;TZID=Europe/Berlin:20250207T223000
DTSTAMP:20260425T153305
CREATED:20240722T122422Z
LAST-MODIFIED:20240722T122424Z
UID:2893-1738953000-1738967400@www.lions-dietzenbach.de
SUMMARY:Charity-Dinner
DESCRIPTION:Charity-Dinner mit Rotary Club RodgauBenefizveranstaltung zugunsten desHospizes in JügesheimTheater-Bistro/ Ratsstube
URL:https://www.lions-dietzenbach.de/event/charity-dinner-2/
LOCATION:Restaurant Ratsstube\, Offenbacher Straße\, Dietzenbach\, 63128\, Deutschland
END:VEVENT
END:VCALENDAR