BEGIN:VCALENDAR
VERSION:2.0
PRODID:-//Lions Club Dietzenbach - ECPv6.15.20//NONSGML v1.0//EN
CALSCALE:GREGORIAN
METHOD:PUBLISH
X-ORIGINAL-URL:https://www.lions-dietzenbach.de
X-WR-CALDESC:Veranstaltungen für Lions Club Dietzenbach
REFRESH-INTERVAL;VALUE=DURATION:PT1H
X-Robots-Tag:noindex
X-PUBLISHED-TTL:PT1H
BEGIN:VTIMEZONE
TZID:Europe/Berlin
BEGIN:DAYLIGHT
TZOFFSETFROM:+0100
TZOFFSETTO:+0200
TZNAME:CEST
DTSTART:20240331T010000
END:DAYLIGHT
BEGIN:STANDARD
TZOFFSETFROM:+0200
TZOFFSETTO:+0100
TZNAME:CET
DTSTART:20241027T010000
END:STANDARD
BEGIN:DAYLIGHT
TZOFFSETFROM:+0100
TZOFFSETTO:+0200
TZNAME:CEST
DTSTART:20250330T010000
END:DAYLIGHT
BEGIN:STANDARD
TZOFFSETFROM:+0200
TZOFFSETTO:+0100
TZNAME:CET
DTSTART:20251026T010000
END:STANDARD
BEGIN:DAYLIGHT
TZOFFSETFROM:+0100
TZOFFSETTO:+0200
TZNAME:CEST
DTSTART:20260329T010000
END:DAYLIGHT
BEGIN:STANDARD
TZOFFSETFROM:+0200
TZOFFSETTO:+0100
TZNAME:CET
DTSTART:20261025T010000
END:STANDARD
END:VTIMEZONE
BEGIN:VEVENT
DTSTART;TZID=Europe/Berlin:20250305T193000
DTEND;TZID=Europe/Berlin:20250305T220000
DTSTAMP:20260425T140127
CREATED:20240722T122737Z
LAST-MODIFIED:20240722T122817Z
UID:2897-1741203000-1741212000@www.lions-dietzenbach.de
SUMMARY:Mitgliederversammlung und Clubabend
DESCRIPTION:
URL:https://www.lions-dietzenbach.de/event/mitgliederversammlung-und-clubabend/
LOCATION:Theaterbistro\, Dietzenbach\, Europaplatz 3\, Dietzenbach\, 63128\, Deutschland
END:VEVENT
END:VCALENDAR