BEGIN:VCALENDAR
VERSION:2.0
PRODID:-//Lions Club Dietzenbach - ECPv6.15.20//NONSGML v1.0//EN
CALSCALE:GREGORIAN
METHOD:PUBLISH
X-WR-CALNAME:Lions Club Dietzenbach
X-ORIGINAL-URL:https://www.lions-dietzenbach.de
X-WR-CALDESC:Veranstaltungen für Lions Club Dietzenbach
REFRESH-INTERVAL;VALUE=DURATION:PT1H
X-Robots-Tag:noindex
X-PUBLISHED-TTL:PT1H
BEGIN:VTIMEZONE
TZID:Europe/Berlin
BEGIN:DAYLIGHT
TZOFFSETFROM:+0100
TZOFFSETTO:+0200
TZNAME:CEST
DTSTART:20240331T010000
END:DAYLIGHT
BEGIN:STANDARD
TZOFFSETFROM:+0200
TZOFFSETTO:+0100
TZNAME:CET
DTSTART:20241027T010000
END:STANDARD
BEGIN:DAYLIGHT
TZOFFSETFROM:+0100
TZOFFSETTO:+0200
TZNAME:CEST
DTSTART:20250330T010000
END:DAYLIGHT
BEGIN:STANDARD
TZOFFSETFROM:+0200
TZOFFSETTO:+0100
TZNAME:CET
DTSTART:20251026T010000
END:STANDARD
BEGIN:DAYLIGHT
TZOFFSETFROM:+0100
TZOFFSETTO:+0200
TZNAME:CEST
DTSTART:20260329T010000
END:DAYLIGHT
BEGIN:STANDARD
TZOFFSETFROM:+0200
TZOFFSETTO:+0100
TZNAME:CET
DTSTART:20261025T010000
END:STANDARD
END:VTIMEZONE
BEGIN:VEVENT
DTSTART;TZID=Europe/Berlin:20250402T193000
DTEND;TZID=Europe/Berlin:20250402T220000
DTSTAMP:20260423T125052
CREATED:20240722T123311Z
LAST-MODIFIED:20240722T123313Z
UID:2905-1743622200-1743631200@www.lions-dietzenbach.de
SUMMARY:Clubabend
DESCRIPTION:
URL:https://www.lions-dietzenbach.de/event/clubabend-8/
LOCATION:Theaterbistro\, Dietzenbach\, Europaplatz 3\, Dietzenbach\, 63128\, Deutschland
END:VEVENT
BEGIN:VEVENT
DTSTART;TZID=Europe/Berlin:20250423T183000
DTEND;TZID=Europe/Berlin:20250423T220000
DTSTAMP:20260423T125052
CREATED:20240722T123506Z
LAST-MODIFIED:20250417T064138Z
UID:2907-1745433000-1745445600@www.lions-dietzenbach.de
SUMMARY:Gästeabend: Führung Firma KNIPP
DESCRIPTION:GästeabendFührung durch die Fa. Knipp mit Matthias Bachmann. Ort: Paul-Ehrich-Straße 10 in Dietzenbach. Beginn um 18:30 Uhr. Abendessen im Anschluss ca. 20:00 Uhr in der Ratsstube (Theater-Bistro).
URL:https://www.lions-dietzenbach.de/event/gaesteabend-fuehrung-firma-knipp/
END:VEVENT
END:VCALENDAR